BEGIN:VCALENDAR
VERSION:2.0
PRODID:-//Bingo Players Klub - ECPv6.15.20//NONSGML v1.0//EN
CALSCALE:GREGORIAN
METHOD:PUBLISH
X-ORIGINAL-URL:https://bingoplayersklub.com
X-WR-CALDESC:Events for Bingo Players Klub
REFRESH-INTERVAL;VALUE=DURATION:PT1H
X-Robots-Tag:noindex
X-PUBLISHED-TTL:PT1H
BEGIN:VTIMEZONE
TZID:America/Halifax
BEGIN:DAYLIGHT
TZOFFSETFROM:-0400
TZOFFSETTO:-0300
TZNAME:ADT
DTSTART:20250309T060000
END:DAYLIGHT
BEGIN:STANDARD
TZOFFSETFROM:-0300
TZOFFSETTO:-0400
TZNAME:AST
DTSTART:20251102T050000
END:STANDARD
BEGIN:DAYLIGHT
TZOFFSETFROM:-0400
TZOFFSETTO:-0300
TZNAME:ADT
DTSTART:20260308T060000
END:DAYLIGHT
BEGIN:STANDARD
TZOFFSETFROM:-0300
TZOFFSETTO:-0400
TZNAME:AST
DTSTART:20261101T050000
END:STANDARD
BEGIN:DAYLIGHT
TZOFFSETFROM:-0400
TZOFFSETTO:-0300
TZNAME:ADT
DTSTART:20270314T060000
END:DAYLIGHT
BEGIN:STANDARD
TZOFFSETFROM:-0300
TZOFFSETTO:-0400
TZNAME:AST
DTSTART:20271107T050000
END:STANDARD
END:VTIMEZONE
BEGIN:VEVENT
DTSTART;TZID=America/Halifax:20260418T170000
DTEND;TZID=America/Halifax:20260418T190000
DTSTAMP:20260422T074736
CREATED:20260331T000840Z
LAST-MODIFIED:20260331T000840Z
UID:10000105-1776531600-1776538800@bingoplayersklub.com
SUMMARY:April “Big Win” Bingo
DESCRIPTION:April “Big Win” Bingo \n$25(18 faces)-$35 (36 faces)-$45 (54 faces) \n$2000 in CASH payouts \n$500 Jackpot game \nPlay at the following Keystone Club locations \n\n31 Gateway Shopping Center\, Edwardsville\, Pa\n801 Wyoming Ave.(Insalaco Shopping Center)\, West Pittson\, Pa\n1130 Mt. View Dr.(Mountain View Plaza)\, Hallstead\, Pa\n1137 Moosic St.\, Unit 4\, Scranton\, PA\n1790 N. Keyser Ave\, Ste. 11\, Scranton\, PA\n2008 Pennylane Dr\, Jeannette\, PA
URL:https://bingoplayersklub.com/event/april-big-win-bingo-3/
LOCATION:Keystone Klub
ATTACH;FMTTYPE=image/jpeg:https://bingoplayersklub.com/wp-content/uploads/2026/03/NEPA-Pet-Fund_April-Bingo-copy_page_1-scaled.jpeg
END:VEVENT
BEGIN:VEVENT
DTSTART;TZID=America/Halifax:20260415T190000
DTEND;TZID=America/Halifax:20260415T210000
DTSTAMP:20260422T074736
CREATED:20260408T191037Z
LAST-MODIFIED:20260408T191037Z
UID:10000108-1776279600-1776286800@bingoplayersklub.com
SUMMARY:April “Big Win” Bingo
DESCRIPTION:April “Big Win” Bingo \n$25(18 faces)-$35 (36 faces)-$45 (54 faces) \n$2000 in CASH payouts \n$500 Jackpot game \nPlay at the following Keystone Club locations \n\n31 Gateway Shopping Center\, Edwardsville\, Pa\n801 Wyoming Ave.(Insalaco Shopping Center)\, West Pittson\, Pa\n1130 Mt. View Dr.(Mountain View Plaza)\, Hallstead\, Pa\n1137 Moosic St.\, Unit 4\, Scranton\, PA\n1790 N. Keyser Ave\, Ste. 11\, Scranton\, PA\n2008 Pennylane Dr\, Jeannette\, PA
URL:https://bingoplayersklub.com/event/april-big-win-bingo-6/
LOCATION:Keystone Klub
ATTACH;FMTTYPE=image/jpeg:https://bingoplayersklub.com/wp-content/uploads/2026/03/NEPA-Pet-Fund_April-Bingo-copy_page_1-scaled.jpeg
END:VEVENT
BEGIN:VEVENT
DTSTART;TZID=America/Halifax:20260411T170000
DTEND;TZID=America/Halifax:20260411T190000
DTSTAMP:20260422T074736
CREATED:20260331T000101Z
LAST-MODIFIED:20260331T000101Z
UID:10000104-1775926800-1775934000@bingoplayersklub.com
SUMMARY:April “Big Win” Bingo
DESCRIPTION:April “Big Win” Bingo \n$25(18 faces)-$35 (36 faces)-$45 (54 faces) \n$2000 in CASH payouts \n$500 Jackpot game \nPlay at the following Keystone Club locations \n\n31 Gateway Shopping Center\, Edwardsville\, Pa\n801 Wyoming Ave.(Insalaco Shopping Center)\, West Pittson\, Pa\n1130 Mt. View Dr.(Mountain View Plaza)\, Hallstead\, Pa\n1137 Moosic St.\, Unit 4\, Scranton\, PA\n1790 N. Keyser Ave\, Ste. 11\, Scranton\, PA\n2008 Pennylane Dr\, Jeannette\, PA
URL:https://bingoplayersklub.com/event/april-big-win-bingo-2/
LOCATION:Keystone Klub
ATTACH;FMTTYPE=image/jpeg:https://bingoplayersklub.com/wp-content/uploads/2026/03/NEPA-Pet-Fund_April-Bingo-copy_page_1-scaled.jpeg
END:VEVENT
BEGIN:VEVENT
DTSTART;TZID=America/Halifax:20260408T190000
DTEND;TZID=America/Halifax:20260408T210000
DTSTAMP:20260422T074736
CREATED:20260408T190154Z
LAST-MODIFIED:20260408T190503Z
UID:10000107-1775674800-1775682000@bingoplayersklub.com
SUMMARY:April “Big Win” Bingo
DESCRIPTION:April “Big Win” Bingo \n$25(18 faces)-$35 (36 faces)-$45 (54 faces) \n$2000 in CASH payouts \n$500 Jackpot game \nPlay at the following Keystone Club locations \n\n31 Gateway Shopping Center\, Edwardsville\, Pa\n801 Wyoming Ave.(Insalaco Shopping Center)\, West Pittson\, Pa\n1130 Mt. View Dr.(Mountain View Plaza)\, Hallstead\, Pa\n1137 Moosic St.\, Unit 4\, Scranton\, PA\n1790 N. Keyser Ave\, Ste. 11\, Scranton\, PA\n2008 Pennylane Dr\, Jeannette\, PA
URL:https://bingoplayersklub.com/event/april-big-win-bingo-5/
LOCATION:Keystone Klub
ATTACH;FMTTYPE=image/jpeg:https://bingoplayersklub.com/wp-content/uploads/2026/03/NEPA-Pet-Fund_April-Bingo-copy_page_1-scaled.jpeg
END:VEVENT
BEGIN:VEVENT
DTSTART;TZID=America/Halifax:20260404T170000
DTEND;TZID=America/Halifax:20260404T190000
DTSTAMP:20260422T074736
CREATED:20260325T111353Z
LAST-MODIFIED:20260330T235109Z
UID:10000095-1775322000-1775329200@bingoplayersklub.com
SUMMARY:April “Big Win” Bingo
DESCRIPTION:April “Big Win” Bingo \n$25(18 faces)-$35 (36 faces)-$45 (54 faces) \n$2000 in CASH payouts \n$500 Jackpot game \nPlay at the following Keystone Club locations \n\n31 Gateway Shopping Center\, Edwardsville\, Pa\n801 Wyoming Ave.(Insalaco Shopping Center)\, West Pittson\, Pa\n1130 Mt. View Dr.(Mountain View Plaza)\, Hallstead\, Pa\n1137 Moosic St.\, Unit 4\, Scranton\, PA\n1790 N. Keyser Ave\, Ste. 11\, Scranton\, PA\n2008 Pennylane Dr\, Jeannette\, PA
URL:https://bingoplayersklub.com/event/april-big-win-bingo/
LOCATION:Keystone Klub
ATTACH;FMTTYPE=image/jpeg:https://bingoplayersklub.com/wp-content/uploads/2026/03/NEPA-Pet-Fund_April-Bingo-copy_page_1-scaled.jpeg
END:VEVENT
BEGIN:VEVENT
DTSTART;TZID=America/Halifax:20260401T190000
DTEND;TZID=America/Halifax:20260401T210000
DTSTAMP:20260422T074736
CREATED:20260331T001324Z
LAST-MODIFIED:20260331T001838Z
UID:10000106-1775070000-1775077200@bingoplayersklub.com
SUMMARY:April “Big Win” Bingo
DESCRIPTION:April “Big Win” Bingo \n$25(18 faces)-$35 (36 faces)-$45 (54 faces) \n$2000 in CASH payouts \n$500 Jackpot game \nPlay at the following Keystone Club locations \n\n31 Gateway Shopping Center\, Edwardsville\, Pa\n801 Wyoming Ave.(Insalaco Shopping Center)\, West Pittson\, Pa\n1130 Mt. View Dr.(Mountain View Plaza)\, Hallstead\, Pa\n1137 Moosic St.\, Unit 4\, Scranton\, PA\n1790 N. Keyser Ave\, Ste. 11\, Scranton\, PA\n2008 Pennylane Dr\, Jeannette\, PA
URL:https://bingoplayersklub.com/event/april-big-win-bingo-4/
LOCATION:Keystone Klub
ATTACH;FMTTYPE=image/jpeg:https://bingoplayersklub.com/wp-content/uploads/2026/03/NEPA-Pet-Fund_April-Bingo-copy_page_1-scaled.jpeg
END:VEVENT
BEGIN:VEVENT
DTSTART;TZID=America/Halifax:20260328T170000
DTEND;TZID=America/Halifax:20260328T190000
DTSTAMP:20260422T074736
CREATED:20260224T221727Z
LAST-MODIFIED:20260224T221727Z
UID:10000085-1774717200-1774724400@bingoplayersklub.com
SUMMARY:March Bingo\, Come Get Your Pot O' Gold
DESCRIPTION:March Bingo\, Come Get Your Pot O’ Gold \n$25(18 faces)-$35 (36 faces)-$45 (54 faces) \n$2000 in CASH payouts \n$500 Jackpot game \nPlay at the following Keystone Club locations \n\n31 Gateway Shopping Center\, Edwardsville\, Pa\n801 Wyoming Ave.(Insalaco Shopping Center)\, West Pittson\, Pa\n1130 Mt. View Dr.(Mountain View Plaza)\, Hallstead\, Pa\n1137 Moosic St.\, Unit 4\, Scranton\, PA\n1790 N. Keyser Ave\, Ste. 11\, Scranton\, PA\n2008 Pennylane Dr\, Jeannette\, PA
URL:https://bingoplayersklub.com/event/march-bingo-come-get-your-pot-o-gold-3/
LOCATION:Keystone Klub
ATTACH;FMTTYPE=image/jpeg:https://bingoplayersklub.com/wp-content/uploads/2026/02/NEPA-Pet-Fund_St-Patricks-Day-Bingo-jpeg.jpg
END:VEVENT
BEGIN:VEVENT
DTSTART;TZID=America/Halifax:20260325T190000
DTEND;TZID=America/Halifax:20260325T210000
DTSTAMP:20260422T074736
CREATED:20260224T223300Z
LAST-MODIFIED:20260327T112721Z
UID:10000090-1774465200-1774472400@bingoplayersklub.com
SUMMARY:March Bingo\, Come Get Your Pot O' Gold
DESCRIPTION:March Bingo\, Come Get Your Pot O’ Gold \n$25(18 faces)-$35 (36 faces)-$45 (54 faces) \n$2000 in CASH payouts \n$500 Jackpot game \nPlay at the following Keystone Club locations \n\n31 Gateway Shopping Center\, Edwardsville\, Pa\n801 Wyoming Ave.(Insalaco Shopping Center)\, West Pittson\, Pa\n1130 Mt. View Dr.(Mountain View Plaza)\, Hallstead\, Pa\n1137 Moosic St.\, Unit 4\, Scranton\, PA\n1790 N. Keyser Ave\, Ste. 11\, Scranton\, PA\n2008 Pennylane Dr\, Jeannette\, PA
URL:https://bingoplayersklub.com/event/march-bingo-come-get-your-pot-o-gold-7/
LOCATION:Keystone Klub
ATTACH;FMTTYPE=image/jpeg:https://bingoplayersklub.com/wp-content/uploads/2026/03/NEPA-Pet-Fund_April-Bingo-copy_page_1-scaled.jpeg
END:VEVENT
END:VCALENDAR